BEGIN:VCALENDAR
VERSION:2.0
PRODID:-//Judo Boudry - ECPv6.15.19//NONSGML v1.0//EN
CALSCALE:GREGORIAN
METHOD:PUBLISH
X-ORIGINAL-URL:https://judoboudry.ch
X-WR-CALDESC:Évènements pour Judo Boudry
REFRESH-INTERVAL;VALUE=DURATION:PT1H
X-Robots-Tag:noindex
X-PUBLISHED-TTL:PT1H
BEGIN:VTIMEZONE
TZID:Europe/Zurich
BEGIN:DAYLIGHT
TZOFFSETFROM:+0100
TZOFFSETTO:+0200
TZNAME:CEST
DTSTART:20250330T010000
END:DAYLIGHT
BEGIN:STANDARD
TZOFFSETFROM:+0200
TZOFFSETTO:+0100
TZNAME:CET
DTSTART:20251026T010000
END:STANDARD
BEGIN:DAYLIGHT
TZOFFSETFROM:+0100
TZOFFSETTO:+0200
TZNAME:CEST
DTSTART:20260329T010000
END:DAYLIGHT
BEGIN:STANDARD
TZOFFSETFROM:+0200
TZOFFSETTO:+0100
TZNAME:CET
DTSTART:20261025T010000
END:STANDARD
BEGIN:DAYLIGHT
TZOFFSETFROM:+0100
TZOFFSETTO:+0200
TZNAME:CEST
DTSTART:20270328T010000
END:DAYLIGHT
BEGIN:STANDARD
TZOFFSETFROM:+0200
TZOFFSETTO:+0100
TZNAME:CET
DTSTART:20271031T010000
END:STANDARD
END:VTIMEZONE
BEGIN:VEVENT
DTSTART;VALUE=DATE:20260215
DTEND;VALUE=DATE:20260216
DTSTAMP:20260419T200001
CREATED:20260127T090300Z
LAST-MODIFIED:20260127T090300Z
UID:30017-1771113600-1771199999@judoboudry.ch
SUMMARY:Ippon Challenge
DESCRIPTION:Invitation Ippon Challenge Février 2026
URL:https://judoboudry.ch/event/ippon-challenge-2/
LOCATION:Salle de Gym de la Juliette\, Rue de la Croix 4\, Corcelles\, Neuchâtel\, 2035\, Switzerland
CATEGORIES:Association Neuchâteloise de Judo - ANJ
END:VEVENT
END:VCALENDAR