BEGIN:VCALENDAR
VERSION:2.0
PRODID:-//Judo Boudry - ECPv6.15.19//NONSGML v1.0//EN
CALSCALE:GREGORIAN
METHOD:PUBLISH
X-ORIGINAL-URL:https://judoboudry.ch
X-WR-CALDESC:Évènements pour Judo Boudry
REFRESH-INTERVAL;VALUE=DURATION:PT1H
X-Robots-Tag:noindex
X-PUBLISHED-TTL:PT1H
BEGIN:VTIMEZONE
TZID:Europe/Zurich
BEGIN:DAYLIGHT
TZOFFSETFROM:+0100
TZOFFSETTO:+0200
TZNAME:CEST
DTSTART:20240331T010000
END:DAYLIGHT
BEGIN:STANDARD
TZOFFSETFROM:+0200
TZOFFSETTO:+0100
TZNAME:CET
DTSTART:20241027T010000
END:STANDARD
BEGIN:DAYLIGHT
TZOFFSETFROM:+0100
TZOFFSETTO:+0200
TZNAME:CEST
DTSTART:20250330T010000
END:DAYLIGHT
BEGIN:STANDARD
TZOFFSETFROM:+0200
TZOFFSETTO:+0100
TZNAME:CET
DTSTART:20251026T010000
END:STANDARD
BEGIN:DAYLIGHT
TZOFFSETFROM:+0100
TZOFFSETTO:+0200
TZNAME:CEST
DTSTART:20260329T010000
END:DAYLIGHT
BEGIN:STANDARD
TZOFFSETFROM:+0200
TZOFFSETTO:+0100
TZNAME:CET
DTSTART:20261025T010000
END:STANDARD
END:VTIMEZONE
BEGIN:VEVENT
DTSTART;TZID=Europe/Zurich:20250914T120000
DTEND;TZID=Europe/Zurich:20250914T170000
DTSTAMP:20260424T175012
CREATED:20250603T061640Z
LAST-MODIFIED:20250603T064738Z
UID:29801-1757851200-1757869200@judoboudry.ch
SUMMARY:Cortège de la Boudrysia
DESCRIPTION:Notre club participe au traditionnel cortège du dimanche après-midi \nBoudrysia_2025
URL:https://judoboudry.ch/event/cortege-de-la-boudrysia/
CATEGORIES:Judo Club Boudry - JCB
END:VEVENT
END:VCALENDAR