BEGIN:VCALENDAR
VERSION:2.0
PRODID:-//Judo Boudry - ECPv6.15.19//NONSGML v1.0//EN
CALSCALE:GREGORIAN
METHOD:PUBLISH
X-WR-CALNAME:Judo Boudry
X-ORIGINAL-URL:https://judoboudry.ch
X-WR-CALDESC:Évènements pour Judo Boudry
REFRESH-INTERVAL;VALUE=DURATION:PT1H
X-Robots-Tag:noindex
X-PUBLISHED-TTL:PT1H
BEGIN:VTIMEZONE
TZID:Europe/Zurich
BEGIN:DAYLIGHT
TZOFFSETFROM:+0100
TZOFFSETTO:+0200
TZNAME:CEST
DTSTART:20230326T010000
END:DAYLIGHT
BEGIN:STANDARD
TZOFFSETFROM:+0200
TZOFFSETTO:+0100
TZNAME:CET
DTSTART:20231029T010000
END:STANDARD
BEGIN:DAYLIGHT
TZOFFSETFROM:+0100
TZOFFSETTO:+0200
TZNAME:CEST
DTSTART:20240331T010000
END:DAYLIGHT
BEGIN:STANDARD
TZOFFSETFROM:+0200
TZOFFSETTO:+0100
TZNAME:CET
DTSTART:20241027T010000
END:STANDARD
BEGIN:DAYLIGHT
TZOFFSETFROM:+0100
TZOFFSETTO:+0200
TZNAME:CEST
DTSTART:20250330T010000
END:DAYLIGHT
BEGIN:STANDARD
TZOFFSETFROM:+0200
TZOFFSETTO:+0100
TZNAME:CET
DTSTART:20251026T010000
END:STANDARD
BEGIN:DAYLIGHT
TZOFFSETFROM:+0100
TZOFFSETTO:+0200
TZNAME:CEST
DTSTART:20260329T010000
END:DAYLIGHT
BEGIN:STANDARD
TZOFFSETFROM:+0200
TZOFFSETTO:+0100
TZNAME:CET
DTSTART:20261025T010000
END:STANDARD
BEGIN:DAYLIGHT
TZOFFSETFROM:+0100
TZOFFSETTO:+0200
TZNAME:CEST
DTSTART:20270328T010000
END:DAYLIGHT
BEGIN:STANDARD
TZOFFSETFROM:+0200
TZOFFSETTO:+0100
TZNAME:CET
DTSTART:20271031T010000
END:STANDARD
END:VTIMEZONE
BEGIN:VEVENT
DTSTART;TZID=Europe/Zurich:20260328T090000
DTEND;TZID=Europe/Zurich:20260328T123000
DTSTAMP:20260419T154253
CREATED:20260217T141554Z
LAST-MODIFIED:20260217T141554Z
UID:30046-1774688400-1774701000@judoboudry.ch
SUMMARY:🥋✨ ENTRAÎNEMENT FÉMININ DE JUDO ✨🥋
DESCRIPTION:📢 Événement unique – à ne pas manquer ! \nÀ l’occasion d’une date exceptionnelle\, nous organisons un entraînement 100 % féminin de judo 🥋 \n👉 Un moment privilégié\, organisé spécialement pour vous\, dans une ambiance dynamique\, bienveillante et motivante. \nOuvert à toutes :✔ Débutantes✔ Judokates confirmées✔ Licenciées de tous clubs✔ Adultes / ados (selon modalités) \n💪 Au programme :• Travail technique• Randori• Partage d’expérience• Convivialité et esprit d’équipe \nC’est l’occasion idéale de se retrouver entre femmes sur le tatami\, progresser ensemble et vivre un moment fort du club. \n📅 Date : 28 mars 2026⏰ Horaire : de 9h00 à 12h30📍 Lieu : Dojo de Peseux \n\n20260328_Judo_Feminin_NE
URL:https://judoboudry.ch/event/%f0%9f%a5%8b%e2%9c%a8-entrainement-feminin-de-judo-%e2%9c%a8%f0%9f%a5%8b/
LOCATION:Dojo de la Côte Peseux\, Rue Ernest-Roulet 4\, Peseux\, 2034\, Suisse
CATEGORIES:Association Neuchâteloise de Judo - ANJ
END:VEVENT
BEGIN:VEVENT
DTSTART;VALUE=DATE:20260328
DTEND;VALUE=DATE:20260329
DTSTAMP:20260419T154253
CREATED:20260127T125303Z
LAST-MODIFIED:20260217T142836Z
UID:30024-1774656000-1774742399@judoboudry.ch
SUMMARY:🥋🔥 RENCONTRE AMICALE INTERCLUB – 28 MARS 2026 🔥🥋
DESCRIPTION:Chers judokas\, chers parents\, \nLe samedi 28 mars 2026\, nos clubs ont le plaisir d’organiser une rencontre amicale interclub au Dojo des Geneveys-sur-Coffrane \n✨ Un moment unique pour :✔ Se mesurer à d’autres judokas du même âge et niveau✔ Vivre l’esprit du judo dans une ambiance conviviale✔ Prendre de l’expérience en compétition amicale✔ Partager une belle journée entre clubs partenaires \nDepuis 2021\, cette rencontre biannuelle rassemble les judokas de nos 4 clubs dans un esprit sportif et respectueux \n👦👧 Pour qui ?Tous les judokas de 7 à 16 ans \n🕘 Programme du matin :• 8h30 : ouverture du dojo• 9h – 11h30 : tournoi amical avec échauffement commun \n🥋 Entraînement commun l’après-midi :13h30 – 17h : entraînement « général » ouvert aux participants du tournoi ainsi qu’aux membres n’ayant pas pu participer le matin \n🌭 Repas convivial “hot-dog”Un repas est prévu pour les enfants participants (possibilité de se joindre même si participation uniquement matin ou après-midi) \n📌 Inscription obligatoire avant le 21 mars 2026 auprès de votre moniteur \n\n💬 Une belle occasion de progresser\, de partager et de vivre pleinement les valeurs du judo : respect\, courage et amitié. \nNous comptons sur votre présence pour faire de cette rencontre une réussite ! \nRencontreInterclub_260328
URL:https://judoboudry.ch/event/rencontre-amical-interclubs/
LOCATION:Dojo Judo Club Les Geneveys-sur-Coffrane\, Rue du 1er Mars 1\, Les Geneveys-sur-Coffrane\, 2206
CATEGORIES:Association Neuchâteloise de Judo - ANJ
END:VEVENT
BEGIN:VEVENT
DTSTART;VALUE=DATE:20260321
DTEND;VALUE=DATE:20260322
DTSTAMP:20260419T154253
CREATED:20260202T144222Z
LAST-MODIFIED:20260202T144222Z
UID:30033-1774051200-1774137599@judoboudry.ch
SUMMARY:Championnat Neuchâtelois Individuel
DESCRIPTION:Merci de réserver la date. Les informations suivront prochainement.
URL:https://judoboudry.ch/event/championnat-neuchatelois-individuel-2/
CATEGORIES:Association Neuchâteloise de Judo - ANJ
END:VEVENT
BEGIN:VEVENT
DTSTART;TZID=Europe/Zurich:20260320T200000
DTEND;TZID=Europe/Zurich:20260320T220000
DTSTAMP:20260419T154253
CREATED:20260217T141059Z
LAST-MODIFIED:20260217T141059Z
UID:30044-1774036800-1774044000@judoboudry.ch
SUMMARY:📢 ASSEMBLÉE GÉNÉRALE – 20 MARS 📢
DESCRIPTION:Chers membres\, chers partenaires\, \nNous avons le plaisir de vous convier à notre Assemblée Générale qui se tiendra le 20 mars. \n👉 Un moment clé pour :✔ Faire le bilan de l’année écoulée✔ Découvrir les projets à venir✔ Échanger vos idées et vos propositions✔ Participer aux décisions importantes \nVotre présence est essentielle ! L’Assemblée Générale est un temps fort de la vie de notre organisation\, et chaque voix compte. \n📅 Date : 20 mars📍 Lieu : Café du Pont\, Fbg. Philippe-Suchard 31\, 2017 Boudry⏰ Heure : 20h00 \nNous comptons sur vous pour faire de cette rencontre un moment dynamique\, constructif et convivial. \nEnsemble\, continuons à faire avancer nos projets !
URL:https://judoboudry.ch/event/%f0%9f%93%a2-assemblee-generale-20-mars-%f0%9f%93%a2/
CATEGORIES:Judo Club Boudry - JCB
END:VEVENT
BEGIN:VEVENT
DTSTART;VALUE=DATE:20260215
DTEND;VALUE=DATE:20260216
DTSTAMP:20260419T154253
CREATED:20260127T090300Z
LAST-MODIFIED:20260127T090300Z
UID:30017-1771113600-1771199999@judoboudry.ch
SUMMARY:Ippon Challenge
DESCRIPTION:Invitation Ippon Challenge Février 2026
URL:https://judoboudry.ch/event/ippon-challenge-2/
LOCATION:Salle de Gym de la Juliette\, Rue de la Croix 4\, Corcelles\, Neuchâtel\, 2035\, Switzerland
CATEGORIES:Association Neuchâteloise de Judo - ANJ
END:VEVENT
BEGIN:VEVENT
DTSTART;VALUE=DATE:20251213
DTEND;VALUE=DATE:20251214
DTSTAMP:20260419T154253
CREATED:20250923T122016Z
LAST-MODIFIED:20250923T122016Z
UID:29950-1765584000-1765670399@judoboudry.ch
SUMMARY:Entrainement et Souper de Noël
DESCRIPTION:
URL:https://judoboudry.ch/event/entrainement-et-souper-de-noel-2/
LOCATION:Boudry\, Boudry\, 2017\, Suisse
CATEGORIES:Judo Club Boudry - JCB
END:VEVENT
BEGIN:VEVENT
DTSTART;VALUE=DATE:20251206
DTEND;VALUE=DATE:20251208
DTSTAMP:20260419T154253
CREATED:20250923T121321Z
LAST-MODIFIED:20250923T121321Z
UID:29947-1764979200-1765151999@judoboudry.ch
SUMMARY:Championnat Suisse Individuel (CSI) de judo 2025
DESCRIPTION:
URL:https://judoboudry.ch/event/championnat-suisse-individuel-csi-de-judo-2025/
LOCATION:Aareweg 32\, 3270 Aarberg\, Suisse\, Aareweg 32\, Aarberg\, 3270\, Switzerland
CATEGORIES:Fédération Suisse de Judo - FSJ
END:VEVENT
BEGIN:VEVENT
DTSTART;VALUE=DATE:20251122
DTEND;VALUE=DATE:20251124
DTSTAMP:20260419T154253
CREATED:20250923T121116Z
LAST-MODIFIED:20250923T121116Z
UID:29944-1763769600-1763942399@judoboudry.ch
SUMMARY:Tournoi interrégional du JKC La Chaux-de-Fonds
DESCRIPTION:Information bientôt disponible
URL:https://judoboudry.ch/event/tournoi-interregional-du-jkc-la-chaux-de-fonds/
CATEGORIES:Association Neuchâteloise de Judo - ANJ
END:VEVENT
BEGIN:VEVENT
DTSTART;VALUE=DATE:20251116
DTEND;VALUE=DATE:20251117
DTSTAMP:20260419T154253
CREATED:20250923T120939Z
LAST-MODIFIED:20250923T120939Z
UID:29941-1763251200-1763337599@judoboudry.ch
SUMMARY:Championnats romands Ecoliers / Ecolières A
DESCRIPTION:Championnat Romands pour les 2011 et 2012 \n8d980e452ed2d7b7441019f42885b2a55aa1cbf4274540ee81c00b5d4e9980df \n 
URL:https://judoboudry.ch/event/championnats-romands-ecoliers-ecolieres-a/
CATEGORIES:Fédération Suisse de Judo - FSJ
END:VEVENT
BEGIN:VEVENT
DTSTART;VALUE=DATE:20251101
DTEND;VALUE=DATE:20251103
DTSTAMP:20260419T154253
CREATED:20250919T133654Z
LAST-MODIFIED:20250919T133654Z
UID:29937-1761955200-1762127999@judoboudry.ch
SUMMARY:Champ Saignélégier
DESCRIPTION:Les 1er et 2 novembre\, nous retrouverons notre traditionnel camp à Saignelégier. Au menu : judo\, découvertes en pleine nature\, piscine et\, avant tout\, de merveilleux moments partagés entre amis ! \nCamps_Saignelégier_2025
URL:https://judoboudry.ch/event/champ-saignelegier/
CATEGORIES:Judo Club Boudry - JCB
END:VEVENT
BEGIN:VEVENT
DTSTART;TZID=Europe/Zurich:20250914T120000
DTEND;TZID=Europe/Zurich:20250914T170000
DTSTAMP:20260419T154253
CREATED:20250603T061640Z
LAST-MODIFIED:20250603T064738Z
UID:29801-1757851200-1757869200@judoboudry.ch
SUMMARY:Cortège de la Boudrysia
DESCRIPTION:Notre club participe au traditionnel cortège du dimanche après-midi \nBoudrysia_2025
URL:https://judoboudry.ch/event/cortege-de-la-boudrysia/
CATEGORIES:Judo Club Boudry - JCB
END:VEVENT
BEGIN:VEVENT
DTSTART;VALUE=DATE:20250707
DTEND;VALUE=DATE:20250711
DTSTAMP:20260419T154253
CREATED:20250502T092904Z
LAST-MODIFIED:20250502T092904Z
UID:29781-1751846400-1752191999@judoboudry.ch
SUMMARY:Stage Kata - Geneveys-sur-Coffrane
DESCRIPTION:Cours de Kata en soirée \navec Kazuhiro Mikami 9ème Dan Kodokan \n2025-stage-kata-K-Mikami-Geneveys-Coffrane
URL:https://judoboudry.ch/event/stage-kata-geneveys-sur-coffrane/
LOCATION:Dojo Judo Club Les Geneveys-sur-Coffrane\, Rue du 1er Mars 1\, Les Geneveys-sur-Coffrane\, 2206
CATEGORIES:Association Neuchâteloise de Judo - ANJ
END:VEVENT
BEGIN:VEVENT
DTSTART;VALUE=DATE:20250705
DTEND;VALUE=DATE:20250708
DTSTAMP:20260419T154253
CREATED:20250502T092631Z
LAST-MODIFIED:20250502T092631Z
UID:29778-1751673600-1751932799@judoboudry.ch
SUMMARY:Stage d'été - Interclubs
DESCRIPTION:Stage interclubs ouvert à tous \nstage été 2025
URL:https://judoboudry.ch/event/stage-dete-interclubs-2/
CATEGORIES:Association Neuchâteloise de Judo - ANJ
END:VEVENT
BEGIN:VEVENT
DTSTART;VALUE=DATE:20250607
DTEND;VALUE=DATE:20250608
DTSTAMP:20260419T154253
CREATED:20250107T094259Z
LAST-MODIFIED:20250415T073114Z
UID:29701-1749254400-1749340799@judoboudry.ch
SUMMARY:Tournoi interne
DESCRIPTION:Notre traditionnel Championnat Interne \n  \nTournoi interne 2025
URL:https://judoboudry.ch/event/tournoi-interne-2/
CATEGORIES:Judo Club Boudry - JCB
END:VEVENT
BEGIN:VEVENT
DTSTART;TZID=Europe/Zurich:20250606T181500
DTEND;TZID=Europe/Zurich:20250606T194500
DTSTAMP:20260419T154253
CREATED:20250221T101137Z
LAST-MODIFIED:20250221T101137Z
UID:29759-1749233700-1749239100@judoboudry.ch
SUMMARY:Entrainement cadre talents - Hauterive
DESCRIPTION:Entraînement Randori: M15\, M13 et M11 – 9 ans à 14 ans
URL:https://judoboudry.ch/event/entrainement-cadre-talents-hauterive-2/
LOCATION:Dojo Judo Club Hauterive\, Chemin du Port 3\, Hauterive\, 2068\, Suisse
CATEGORIES:Association Neuchâteloise de Judo - ANJ
END:VEVENT
BEGIN:VEVENT
DTSTART;TZID=Europe/Zurich:20250511T093000
DTEND;TZID=Europe/Zurich:20250511T113000
DTSTAMP:20260419T154253
CREATED:20250502T092429Z
LAST-MODIFIED:20250502T092429Z
UID:29774-1746955800-1746963000@judoboudry.ch
SUMMARY:Entrainement Spécial des 50 ans du JC Hauterive
DESCRIPTION:Entrainement spécial pour les 50 ans du Judo Club Hauterive. \nCNPEE – Binta
URL:https://judoboudry.ch/event/entrainement-special-des-50-ans-du-jc-hauterive/
LOCATION:Centre Sportif – Hauterive\, Rue du centre Sportif\, Hauterive\, 2068\, Switzerland
CATEGORIES:Association Neuchâteloise de Judo - ANJ
END:VEVENT
BEGIN:VEVENT
DTSTART;VALUE=DATE:20250510
DTEND;VALUE=DATE:20250511
DTSTAMP:20260419T154253
CREATED:20250409T091302Z
LAST-MODIFIED:20250409T091330Z
UID:29766-1746835200-1746921599@judoboudry.ch
SUMMARY:Tournoi amical de Renens
DESCRIPTION:Tournoi amical organiser par le Judo Club Renens \n7ème-tournoi-amical-Renens-10 mai 2025
URL:https://judoboudry.ch/event/tournoi-amical-de-renens/
LOCATION:Salle de Gym du Léman\, Rue du Léman 10\, Renens\, 1020\, Switzerland
CATEGORIES:Fédération Suisse de Judo - FSJ
END:VEVENT
BEGIN:VEVENT
DTSTART;TZID=Europe/Zurich:20250509T181500
DTEND;TZID=Europe/Zurich:20250509T200000
DTSTAMP:20260419T154253
CREATED:20250123T152611Z
LAST-MODIFIED:20250123T152611Z
UID:29717-1746814500-1746820800@judoboudry.ch
SUMMARY:Entrainement Cadre Talents – Neuchâtel
DESCRIPTION:Entraînement Randori: M15\, M13 et M11 – 9 ans à 14 ans
URL:https://judoboudry.ch/event/entrainement-cadre-talents-neuchatel-4/
LOCATION:Dojo Judo Club Cortaillod-Neuchâtel\, Rue des Parcs 38\, Neuchâtel\, 2000\, Suisse
CATEGORIES:Association Neuchâteloise de Judo - ANJ
END:VEVENT
BEGIN:VEVENT
DTSTART;TZID=Europe/Zurich:20250404T181500
DTEND;TZID=Europe/Zurich:20250404T194500
DTSTAMP:20260419T154253
CREATED:20250123T152226Z
LAST-MODIFIED:20250123T152226Z
UID:29715-1743790500-1743795900@judoboudry.ch
SUMMARY:Entrainement Cadre Talents – Les Geneveys s/Cof.
DESCRIPTION:Entraînement Randori: M15\, M13 et M11 – 9 ans à 14 ans
URL:https://judoboudry.ch/event/entrainement-cadre-talents-les-geneveys-s-cof/
LOCATION:Dojo Judo Club Les Geneveys-sur-Coffrane\, Rue du 1er Mars 1\, Les Geneveys-sur-Coffrane\, 2206
CATEGORIES:Association Neuchâteloise de Judo - ANJ
END:VEVENT
BEGIN:VEVENT
DTSTART;VALUE=DATE:20250322
DTEND;VALUE=DATE:20250323
DTSTAMP:20260419T154253
CREATED:20250221T100932Z
LAST-MODIFIED:20250313T132343Z
UID:29756-1742601600-1742687999@judoboudry.ch
SUMMARY:Championnat Neuchâtelois Individuel
DESCRIPTION:SEN-U21-U18-U15 \n\nCNI25
URL:https://judoboudry.ch/event/championnat-neuchatelois-individuel/
LOCATION:Salle de Gym de la Juliette\, Rue de la Croix 4\, Corcelles\, Neuchâtel\, 2035\, Switzerland
CATEGORIES:Association Neuchâteloise de Judo - ANJ
END:VEVENT
BEGIN:VEVENT
DTSTART;TZID=Europe/Zurich:20250314T200000
DTEND;TZID=Europe/Zurich:20250314T210000
DTSTAMP:20260419T154253
CREATED:20250107T094006Z
LAST-MODIFIED:20250123T150509Z
UID:29699-1741982400-1741986000@judoboudry.ch
SUMMARY:Assemblée Générale
DESCRIPTION:Assemblée Générale du club \nConvocation AG_2025
URL:https://judoboudry.ch/event/assemblee-generale/
CATEGORIES:Judo Club Boudry - JCB
END:VEVENT
BEGIN:VEVENT
DTSTART;TZID=Europe/Zurich:20250307T181500
DTEND;TZID=Europe/Zurich:20250307T194500
DTSTAMP:20260419T154253
CREATED:20250123T151004Z
LAST-MODIFIED:20250123T151004Z
UID:29713-1741371300-1741376700@judoboudry.ch
SUMMARY:Entrainement Cadre Talents – Auvernier
DESCRIPTION:Entraînement Randori: M15\, M13 et M11 – 9 ans à 14 ans
URL:https://judoboudry.ch/event/entrainement-cadre-talents-auvernier-2/
LOCATION:Dojo Auvernier\, Route du Lac 9\, Auvernier\, 2012\, Switzerland
CATEGORIES:Association Neuchâteloise de Judo - ANJ
END:VEVENT
BEGIN:VEVENT
DTSTART;VALUE=DATE:20250222
DTEND;VALUE=DATE:20250223
DTSTAMP:20260419T154253
CREATED:20250107T093758Z
LAST-MODIFIED:20250107T093758Z
UID:29697-1740182400-1740268799@judoboudry.ch
SUMMARY:Cours Technique
DESCRIPTION:Cours technique ANJ
URL:https://judoboudry.ch/event/cours-technique/
LOCATION:Dojo Auvernier\, Route du Lac 9\, Auvernier\, 2012\, Switzerland
CATEGORIES:Association Neuchâteloise de Judo - ANJ
END:VEVENT
BEGIN:VEVENT
DTSTART;VALUE=DATE:20250216
DTEND;VALUE=DATE:20250217
DTSTAMP:20260419T154253
CREATED:20250107T093444Z
LAST-MODIFIED:20250108T132827Z
UID:29695-1739664000-1739750399@judoboudry.ch
SUMMARY:Ippon Challenge
DESCRIPTION:Voici les informations pour le prochains Ippon Challenge: \nInscription auprès de Natacha d’ici le 31 janvier avec Nom\, Prénom\, Date de Naissance et Poids. \nInvitation Ippon Challenge Février 2025
URL:https://judoboudry.ch/event/ippon-challenge/
LOCATION:Salle de Gym de la Juliette\, Rue de la Croix 4\, Corcelles\, Neuchâtel\, 2035\, Switzerland
CATEGORIES:Association Neuchâteloise de Judo - ANJ
END:VEVENT
BEGIN:VEVENT
DTSTART;TZID=Europe/Zurich:20250207T180000
DTEND;TZID=Europe/Zurich:20250207T193000
DTSTAMP:20260419T154253
CREATED:20250123T150841Z
LAST-MODIFIED:20250123T150841Z
UID:29711-1738951200-1738956600@judoboudry.ch
SUMMARY:Entrainement Cadre Talents – La Chaux-de-Fonds
DESCRIPTION:Entraînement Randori: M15\, M13 et M11 – 9 ans à 14 ans
URL:https://judoboudry.ch/event/entrainement-cadre-talents-la-chaux-de-fonds-3/
LOCATION:Dojo Judo Karaté Club de la Chaux-de-Fonds\, Rue Blaise-Cendrars\, La Chaux-de-Fonds\, 2300\, Suisse
CATEGORIES:Association Neuchâteloise de Judo - ANJ
END:VEVENT
BEGIN:VEVENT
DTSTART;TZID=Europe/Zurich:20250110T181500
DTEND;TZID=Europe/Zurich:20250110T194500
DTSTAMP:20260419T154253
CREATED:20241022T112637Z
LAST-MODIFIED:20241029T104957Z
UID:29623-1736532900-1736538300@judoboudry.ch
SUMMARY:Entrainement Cadre Talents – Neuchâtel
DESCRIPTION:Entraînement Randori: M15\, M13 et M11 – 9 ans à 14 ans
URL:https://judoboudry.ch/event/entrainement-cadre-talents-neuchatel-3/
CATEGORIES:Association Neuchâteloise de Judo - ANJ
END:VEVENT
BEGIN:VEVENT
DTSTART;VALUE=DATE:20241207
DTEND;VALUE=DATE:20241208
DTSTAMP:20260419T154253
CREATED:20240415T145336Z
LAST-MODIFIED:20241112T070836Z
UID:29431-1733529600-1733615999@judoboudry.ch
SUMMARY:Entrainement et Souper de Noël
DESCRIPTION:Voici les informations pour notre traditionnelle Journée de Noël \nsouper Noël 2024
URL:https://judoboudry.ch/event/entrainement-et-souper-de-noel/
CATEGORIES:Judo Club Boudry - JCB
END:VEVENT
BEGIN:VEVENT
DTSTART;TZID=Europe/Zurich:20241206T180000
DTEND;TZID=Europe/Zurich:20241206T193000
DTSTAMP:20260419T154253
CREATED:20241022T112532Z
LAST-MODIFIED:20241022T112532Z
UID:29621-1733508000-1733513400@judoboudry.ch
SUMMARY:Entrainement Cadre Talents – La Chaux-de-fonds
DESCRIPTION:Entraînement Randori: M15\, M13 et M11 – 9 ans à 14 ans
URL:https://judoboudry.ch/event/entrainement-cadre-talents-la-chaux-de-fonds-2/
LOCATION:Dojo Judo Karaté Club de la Chaux-de-Fonds\, Rue Blaise-Cendrars\, La Chaux-de-Fonds\, 2300\, Suisse
CATEGORIES:Association Neuchâteloise de Judo - ANJ
END:VEVENT
BEGIN:VEVENT
DTSTART;VALUE=DATE:20241130
DTEND;VALUE=DATE:20241202
DTSTAMP:20260419T154253
CREATED:20241022T051328Z
LAST-MODIFIED:20241022T051929Z
UID:29611-1732924800-1733097599@judoboudry.ch
SUMMARY:Championnat Suisse individuel
DESCRIPTION:Cette année encore les championnats suisses individuels au lieu à Yverdon. \nAucune personne de notre club n’est qualifiée\, mais pour les passionnées de Judo qui souhaite voir l’élite suisse voici les informations du rendez-vous: \nSamedi 30 Novembre dès 10h: \n\nCatégorie Espoirs (U18)\nCatégorie Elites (Adultes)\n\nDimanche 1 décembre dès 10h30: \n\nCatégorie Juniors (U21)\nCatégorie Vétéran\n\n 
URL:https://judoboudry.ch/event/championnat-suisse-individuel/
LOCATION:Centre sportif des Îles\, Avenue des Trois-Lacs 1\, Yverdon-les-Bains\, Vaud\, 1400\, Switzerland
CATEGORIES:Fédération Suisse de Judo - FSJ
END:VEVENT
BEGIN:VEVENT
DTSTART;VALUE=DATE:20241123
DTEND;VALUE=DATE:20241125
DTSTAMP:20260419T154253
CREATED:20240924T121602Z
LAST-MODIFIED:20241111T083033Z
UID:29591-1732320000-1732492799@judoboudry.ch
SUMMARY:Tournoi Interrégional
DESCRIPTION:Tournoi interrégional de la chaux-de-fonds \nL’inscription se fait directement via le QR Code ou le lien ci-dessous. \nhttps://docs.google.com/forms/d/e/1FAIpQLSe3z3GnxstTd_ENQnirANV9Tgmg5lhOIPhSd4lBkagwrjNcQg/viewform \nMerci néanmoins d’avertir Natacha de votre présence à la manifestation \nTournoi_Interrégional_23_Nov \nTournoi_Interrégional_24_Nov
URL:https://judoboudry.ch/event/tournoi-interregional/
CATEGORIES:Association Neuchâteloise de Judo - ANJ
END:VEVENT
END:VCALENDAR