BEGIN:VCALENDAR
VERSION:2.0
PRODID:-//Judo Boudry - ECPv6.15.19//NONSGML v1.0//EN
CALSCALE:GREGORIAN
METHOD:PUBLISH
X-ORIGINAL-URL:https://judoboudry.ch
X-WR-CALDESC:Évènements pour Judo Boudry
REFRESH-INTERVAL;VALUE=DURATION:PT1H
X-Robots-Tag:noindex
X-PUBLISHED-TTL:PT1H
BEGIN:VTIMEZONE
TZID:Europe/Zurich
BEGIN:DAYLIGHT
TZOFFSETFROM:+0100
TZOFFSETTO:+0200
TZNAME:CEST
DTSTART:20240331T010000
END:DAYLIGHT
BEGIN:STANDARD
TZOFFSETFROM:+0200
TZOFFSETTO:+0100
TZNAME:CET
DTSTART:20241027T010000
END:STANDARD
BEGIN:DAYLIGHT
TZOFFSETFROM:+0100
TZOFFSETTO:+0200
TZNAME:CEST
DTSTART:20250330T010000
END:DAYLIGHT
BEGIN:STANDARD
TZOFFSETFROM:+0200
TZOFFSETTO:+0100
TZNAME:CET
DTSTART:20251026T010000
END:STANDARD
BEGIN:DAYLIGHT
TZOFFSETFROM:+0100
TZOFFSETTO:+0200
TZNAME:CEST
DTSTART:20260329T010000
END:DAYLIGHT
BEGIN:STANDARD
TZOFFSETFROM:+0200
TZOFFSETTO:+0100
TZNAME:CET
DTSTART:20261025T010000
END:STANDARD
END:VTIMEZONE
BEGIN:VEVENT
DTSTART;VALUE=DATE:20251122
DTEND;VALUE=DATE:20251124
DTSTAMP:20260424T161142
CREATED:20250923T121116Z
LAST-MODIFIED:20250923T121116Z
UID:29944-1763769600-1763942399@judoboudry.ch
SUMMARY:Tournoi interrégional du JKC La Chaux-de-Fonds
DESCRIPTION:Information bientôt disponible
URL:https://judoboudry.ch/event/tournoi-interregional-du-jkc-la-chaux-de-fonds/
CATEGORIES:Association Neuchâteloise de Judo - ANJ
END:VEVENT
END:VCALENDAR