BEGIN:VCALENDAR
VERSION:2.0
PRODID:-//Judo Boudry - ECPv6.15.19//NONSGML v1.0//EN
CALSCALE:GREGORIAN
METHOD:PUBLISH
X-WR-CALNAME:Judo Boudry
X-ORIGINAL-URL:https://judoboudry.ch
X-WR-CALDESC:Évènements pour Judo Boudry
REFRESH-INTERVAL;VALUE=DURATION:PT1H
X-Robots-Tag:noindex
X-PUBLISHED-TTL:PT1H
BEGIN:VTIMEZONE
TZID:Europe/Zurich
BEGIN:DAYLIGHT
TZOFFSETFROM:+0100
TZOFFSETTO:+0200
TZNAME:CEST
DTSTART:20240331T010000
END:DAYLIGHT
BEGIN:STANDARD
TZOFFSETFROM:+0200
TZOFFSETTO:+0100
TZNAME:CET
DTSTART:20241027T010000
END:STANDARD
BEGIN:DAYLIGHT
TZOFFSETFROM:+0100
TZOFFSETTO:+0200
TZNAME:CEST
DTSTART:20250330T010000
END:DAYLIGHT
BEGIN:STANDARD
TZOFFSETFROM:+0200
TZOFFSETTO:+0100
TZNAME:CET
DTSTART:20251026T010000
END:STANDARD
BEGIN:DAYLIGHT
TZOFFSETFROM:+0100
TZOFFSETTO:+0200
TZNAME:CEST
DTSTART:20260329T010000
END:DAYLIGHT
BEGIN:STANDARD
TZOFFSETFROM:+0200
TZOFFSETTO:+0100
TZNAME:CET
DTSTART:20261025T010000
END:STANDARD
END:VTIMEZONE
BEGIN:VEVENT
DTSTART;VALUE=DATE:20251101
DTEND;VALUE=DATE:20251103
DTSTAMP:20260424T184659
CREATED:20250919T133654Z
LAST-MODIFIED:20250919T133654Z
UID:29937-1761955200-1762127999@judoboudry.ch
SUMMARY:Champ Saignélégier
DESCRIPTION:Les 1er et 2 novembre\, nous retrouverons notre traditionnel camp à Saignelégier. Au menu : judo\, découvertes en pleine nature\, piscine et\, avant tout\, de merveilleux moments partagés entre amis ! \nCamps_Saignelégier_2025
URL:https://judoboudry.ch/event/champ-saignelegier/
CATEGORIES:Judo Club Boudry - JCB
END:VEVENT
END:VCALENDAR